Workbook

Sheet Overall Rate
B1: PG: | E1: This is an outline of what the rate development should look like.The purpose of the rate development is to cover costs/break even. Only to external customers is a profit to be applied and you charge what the market will bear. An outline of this type should be performed for every service that the program is offering.
B2: Created By:
B3: Date:
B4: Name of Service:
E5: Number of Hours | F5: 100
C6: Fixed/Variable Costs | E6: Total Costs*: | F6: Allocated Usage | G6: Total | H6: Total for the year (estimated, documentation needed)
C7: Gizmo | D7: =G7/$F$5 -> 1.6 | E7: 200 | F7: 0.8 | G7: =E7*F7 -> 160 | H7: Total for the year (estimated, documentation needed)
C8: Widget | D8: =G8/$F$5 -> 15 | E8: 1500 | F8: 1 | G8: =E8*F8 -> 1500 | H8: Total for the year (estimated, documentation needed)
C9: Gadget | D9: =G9/$F$5 -> 48 | E9: 4800 | F9: 1 | G9: =E9*F9 -> 4800 | H9: Total for the year (estimated, documentation needed)
C10: Contraption | D10: =G10/$F$5 -> 6.4 | E10: 800 | F10: 0.8 | G10: =E10*F10 -> 640 | H10: Total for the year (estimated, documentation needed)
C12: Graduate Tuition | D12: 0 | E12: If a Grad Student assists in the work **
C14: Labor Costs
C15: Faculty Jane Doe | D15: ='Specific Labor for 1 Employees'!G8 -> 118.01576 | E15: Match rate to the Labor Rate table
C16: Service A Rate | D16: ='Specific Labor for >1 Employees'!G52 -> 84.485007 | E16: Match rate to the Labor Rate table
C17: Service B Rate | D17: ='Specific Labor for >1 Employees'!H52 -> 93.43078 | E17: Match rate to the Labor Rate table
C18: Service C Rate | D18: ='Specific Labor for >1 Employees'!I52 -> 98.114334 | E18: Match rate to the Labor Rate table
C19: Service D Rate | D19: ='Specific Labor for >1 Employees'!J52 -> 74.807338 | E19: Match rate to the Labor Rate table
C20: Pooled Rate | D20: ='Pooled Average Rate'!G52 -> 93.43078 | E20: Match rate to the Labor Rate table
C22: Internal Rate | D22: =SUM(D7:D20) -> 633.284 | E22: The Internal rate is to only cover expenses.
C24: External Rate | D24: 200 | E24: Documentation which shows examples of this external rate being industry practice
C25: Administrative Service Fee 3% | D25: =D24*0.03 -> 6 | E25: This rate is dependent on the individual college policy. Check with your college fiscal officer or policy.
C26: Total External Rate | D26: =D24+D25 -> 206
A28: * | B28: Total Costs should be allocated based on use of those costs. If Lubricants cost $200, and the Lab is used 20% of the time for teaching than 80% of the costs are applied to the FFS. (.80*200=160)
A29: ** | B29: Allowable Tuition Rates for Proposals | Office of Sponsored Programs Administration (iastate.edu)
B30: University Forms - Accounting and Payroll (iastate.edu)

Sheet Specific Labor for 1 Employees
A1: Example of Hourly rate by employee: Calculates a hourly rate by services when more than 1 employee is assigned to the designated service.
A3: *All items in the yellow colored cells will need to be populated. (Employee Name, Pay Base, Salary, Benefit Rate, and % of time/service.)
A4: Employee Name | B4: Pay Base (Select from Dropdown) *Click on the cell, in the upper right hand corner the dropdown arrow will appear. | C4: Annual Salary | D4: Benefit Rate % | E4: Total Salary & Benefit | G4: Time committed to FFS | H4: Non FFS Work | I4: Total
A5: Faculty Jane Doe | B5: B Base Faculty (9 month appointment) | F5: % of time/service | G5: 0.5 | H5: =I5-G5 -> 0.5 | I5: 1
F6: Budgeted Hours/Service | G6: =$I$6*G5 -> 698 | H6: =$I$6*H5 -> 698 | I6: =IF(B5=$A$12,F12,IF(B5=$A$13,F13,IF(B5=$A$14,F14,IF(B5=$A$15,F15,IF(B5=$A$16,F16,IF(B5=$A$17,F17,IF(B5=$A$18,F18,IF(B5=$A$19,F19,IF(B5=$A$20,F20,IF(B5=$A$21,F21,IF(B5=$A$22,F22,IF(B5=A23,0)))))))))))) -> 1396
C7: 125000 | D7: =IF(B5=$A$12,$G$12,IF(B5=$A$13,$G$13,IF(B5=$A$14,$G$14,IF(B5=$A$15,$G$15,IF(B5=$A$16,$G$16,IF(B5=$A$17,$G$17,IF(B5=$A$18,$G$18,IF(B5=$A$19,$G$19,IF(B5=$A$20,$G$20,IF(B5=$A$21,$G$21,IF(B5=$A$22,$G$22,IF(B5=$A$23,$G$23)))))))))))) -> 0.318 | E7: =(C7+(C7*D7)) -> 164750 | F7: Salary & Benefit Rate | G7: =$E$7*G5 -> 82375 | H7: =E7*H5 -> 82375 | I7: =SUM(G7:H7) -> 164750
F8: Per Hour Rate | G8: =IFERROR(G7/G6,0) -> 118.01576
A11: Pay Base | B11: Annual Base Hours | C11: Vacation | D11: Sick Leave | E11: Holiday Leave | F11: Annual Budget Hours | G11: Fixed Benefit Rate %
A12: P Base (Full-time P&S) | B12: 2080 | C12: -192 | D12: -144 | E12: -72 | F12: =B12+SUM(C12:E12) -> 1672 | G12: 0.405
A13: A Base Faculty (Full-time) | B13: 2080 | C13: -192 | D13: -144 | E13: -72 | F13: =B13+C13+D13+E13 -> 1672 | G13: 0.318
A14: B Base Faculty (9 month appointment) | B14: 1560 | D14: =-12*9 -> -108 | E14: =-7*8 -> -56 | F14: =B14+SUM(C14:E14) -> 1396 | G14: 0.318
A15: C Base (Grad Asst) - 3/4 time | B15: 1560 | E15: -56 | F15: =B15+SUM(C15:E15) -> 1504 | G15: 0.152
A16: C Base (Grad Asst) - 1/2 time | B16: 1040 | E16: -56 | F16: =B16+SUM(C16:E16) -> 984 | G16: 0.152
A17: D Base (Full-time Post Doc) | B17: 2080 | C17: -192 | D17: -144 | E17: -72 | F17: =B17+C17+D17+E17 -> 1672 | G17: 0.367
A18: Full-time E Merit (ISU employee for 1-4 years) | B18: 2080 | C18: =-8*12 -> -96 | D18: -144 | E18: -72 | F18: =B18+SUM(C18:E18) -> 1768 | G18: 0.501
A19: Full-time E Merit (ISU employee for 5-11 years) | B19: 2080 | C19: =-11.33*12 -> -135.96 | D19: =-12*12 -> -144 | E19: =-72 -> -72 | F19: =B19+SUM(C19:E19) -> 1728.04 | G19: 0.501
A20: Full-time E Merit (ISU employee for 12-19 years) | B20: 2080 | C20: =-14.67*12 -> -176.04 | D20: =-12*12 -> -144 | E20: =-72 -> -72 | F20: =B20+SUM(C20:E20) -> 1687.96 | G20: 0.501
A21: Full-time E Merit (ISU employee for 20-24 years) | B21: 2080 | C21: =-16*12 -> -192 | D21: =-12*12 -> -144 | E21: =-72 -> -72 | F21: =B21+SUM(C21:E21) -> 1672 | G21: 0.501
A22: Full-time E Merit (ISU employee for 25+ years) | B22: 2080 | C22: =-18*12 -> -216 | D22: =-12*12 -> -144 | E22: =-72 -> -72 | F22: =B22+SUM(C22:E22) -> 1648 | G22: 0.501
A23: Undergraduate | B23: 1040 | C23: 0 | D23: 0 | E23: 0 | F23: 1040 | G23: 0.018

Sheet Specific Labor for >1 Employees
A1: Example of Hourly rate by service/hr for 1 or more employees: Calculates a hourly rate by services when more than 1 employee is assigned to the designated service.
A3: *All items in the yellow colored cells will need to be populated. (Employee Name, Pay Base, Salary, Benefit Rate, and % of time/service.)
A4: Employee Name | B4: Pay Base (Select from Dropdown) *Click on the cell, in the upper right hand corner the dropdown arrow will appear. | C4: Annual Salary | D4: Benefit Rate % | E4: Total Salary & Benefit | G4: Service A | H4: Service B | I4: Service C | J4: Service D | K4: Total time on FFS | L4: Non FFS Work | M4: Total
A5: Jane | B5: B Base Faculty (9 month appointment) | F5: % of time/service | G5: 0.05 | H5: 0.1 | I5: 0.15 | J5: 0.2 | K5: =SUM(G5:J5) -> 0.5 | L5: =M5-K5 -> 0.5 | M5: 1
F6: Budgeted Hours/Service | G6: =$M$6*G5 -> 69.8 | H6: =$M$6*H5 -> 139.6 | I6: =$M$6*I5 -> 209.4 | J6: =$M$6*J5 -> 279.2 | K6: =SUM(G6:J6) -> 698 | L6: =$M$6*L5 -> 698 | M6: =IF(B5=$A$55,$F$55,IF(B5=$A$56,$F$56,IF(B5=$A$57,$F$57,IF(B5=$A$58,$F$58,IF(B5=$A$59,$F$59,IF(B5=$A$60,$F$60,IF(B5=$A$61,$F$61,IF(B5=$A$62,$F$62,IF(B5=$A$63,$F$63,IF(B5=$A$64,$F$64,IF(B5=$A$65,$F$65,IF(B5=$A$66,$F$66)))))))))))) -> 1396
C7: 125000 | D7: =IF($B5=$A$55,$G$55,IF($B5=$A$56,$G$56,IF($B5=$A$57,$G$57,IF($B5=$A$58,$G$58,IF($B5=$A$59,$G$59,IF($B5=$A$60,$G$60,IF($B5=$A$61,$G$61,IF($B5=$A$62,$G$62,IF($B5=$A$63,$G$63,IF($B5=$A$64,$G$64,IF($B5=$A$65,$G$65,IF($B5=$A$66,0)))))))))))) -> 0.263 | E7: =(C7+(C7*D7)) -> 157875 | F7: Salary & Benefit Rate | G7: =$E$7*G5 -> 7893.75 | H7: =$E$7*H5 -> 15787.5 | I7: =$E$7*I5 -> 23681.25 | J7: =$E$7*J5 -> 31575 | K7: =SUM(G7:J7) -> 78937.5 | L7: =E7*L5 -> 78937.5 | M7: =K7+L7 -> 157875
F8: Per Hour Rate | G8: =IFERROR(G7/G6,0) -> 113.09097 | H8: =IFERROR(H7/H6,0) -> 113.09097 | I8: =IFERROR(I7/I6,0) -> 113.09097 | J8: =IFERROR(J7/J6,0) -> 113.09097 | K8: =IFERROR(K7/K6,0) -> 113.09097
A10: Tom | B10: P Base (Full-time P&S) | F10: % of time/service | G10: 0.05 | H10: 0.05 | I10: 0.05 | J10: 0.45 | K10: =SUM(G10:J10) -> 0.6 | L10: =M10-K10 -> 0.4 | M10: 1
F11: Budgeted Hours/Service | G11: =$M$11*G10 -> 83.6 | H11: =$M$11*H10 -> 83.6 | I11: =$M$11*I10 -> 83.6 | J11: =$M$11*J10 -> 752.4 | K11: =SUM(G11:J11) -> 1003.2 | L11: =$M$11*L10 -> 668.8 | M11: =IF(B10=$A$55,$F$55,IF(B10=$A$56,$F$56,IF(B10=$A$57,$F$57,IF(B10=$A$58,$F$58,IF(B10=$A$59,$F$59,IF(B10=$A$60,$F$60,IF(B10=$A$61,$F$61,IF(B10=$A$62,$F$62,IF(B10=$A$63,$F$63,IF(B10=$A$64,$F$64,IF(B10=$A$65,$F$65,IF(B10=$A$66,$F$66)))))))))))) -> 1672
C12: 75000 | D12: =IF($B10=$A$55,$G$55,IF($B10=$A$56,$G$56,IF($B10=$A$57,$G$57,IF($B10=$A$58,$G$58,IF($B10=$A$59,$G$59,IF($B10=$A$60,$G$60,IF($B10=$A$61,$G$61,IF($B10=$A$62,$G$62,IF($B10=$A$63,$G$63,IF($B10=$A$64,$G$64,IF($B10=$A$65,$G$65,IF($B10=$A$66,0)))))))))))) -> 0.351 | E12: =(C12+(C12*D12)) -> 101325 | F12: Salary & Benefit Rate | G12: =$E$12*G10 -> 5066.25 | H12: =$E$12*H10 -> 5066.25 | I12: =$E$12*I10 -> 5066.25 | J12: =$E$12*J10 -> 45596.25 | K12: =SUM(G12:J12) -> 60795 | L12: =$E$12*L10 -> 40530 | M12: =SUM(K12:L12) -> 101325
F13: Per Hour Rate | G13: =IFERROR(G12/G11,0) -> 60.601077 | H13: =IFERROR(H12/H11,0) -> 60.601077 | I13: =IFERROR(I12/I11,0) -> 60.601077 | J13: =IFERROR(J12/J11,0) -> 60.601077 | K13: =IFERROR(K12/K11,0) -> 60.601077
F15: % of time/service | G15: 0 | H15: 0 | I15: 0 | J15: 0 | K15: =SUM(G15:J15) -> 0 | L15: =M15-K15 -> 1 | M15: 1
F16: Budgeted Hours/Service | G16: =$M$16*G15 -> 0 | H16: =$M$16*H15 -> 0 | I16: =$M$16*I15 -> 0 | J16: =$M$16*J15 -> 0 | K16: =SUM(G16:J16) -> 0 | L16: =$M$16*L15 -> 0 | M16: =IF(B15=$A$55,$F$55,IF(B15=$A$56,$F$56,IF(B15=$A$57,$F$57,IF(B15=$A$58,$F$58,IF(B15=$A$59,$F$59,IF(B15=$A$60,$F$60,IF(B15=$A$61,$F$61,IF(B15=$A$62,$F$62,IF(B15=$A$63,$F$63,IF(B15=$A$64,$F$64,IF(B15=$A$65,$F$65,IF(B15=$A$66,$F$66)))))))))))) -> FALSE
D17: =IF($B15=$A$55,$G$55,IF($B15=$A$56,$G$56,IF($B15=$A$57,$G$57,IF($B15=$A$58,$G$58,IF($B15=$A$59,$G$59,IF($B15=$A$60,$G$60,IF($B15=$A$61,$G$61,IF($B15=$A$62,$G$62,IF($B15=$A$63,$G$63,IF($B15=$A$64,$G$64,IF($B15=$A$65,$G$65,IF($B15=$A$66,0)))))))))))) -> FALSE | E17: =(C17+(C17*D17)) -> 0 | F17: Salary & Benefit Rate | G17: =$E$17*G15 -> 0 | H17: =$E$17*H15 -> 0 | I17: =$E$17*I15 -> 0 | J17: =$E$17*J15 -> 0 | K17: =SUM(G17:J17) -> 0 | L17: =E17*L15 -> 0 | M17: =SUM(K17:L17) -> 0
F18: Per Hour Rate | G18: =IFERROR(G17/G16,0) -> 0 | H18: =IFERROR(H17/H16,0) -> 0 | I18: =IFERROR(I17/I16,0) -> 0 | J18: =IFERROR(J17/J16,0) -> 0 | K18: =IFERROR(K17/K16,0) -> 0
F20: % of time/service | G20: 0 | H20: 0 | I20: 0 | J20: 0 | K20: =SUM(G20:J20) -> 0 | L20: =M20-K20 -> 1 | M20: 1
F21: Budgeted Hours/Service | G21: =$M$21*G20 -> 0 | H21: =$M$21*H20 -> 0 | I21: =$M$21*I20 -> 0 | J21: =$M$21*J20 -> 0 | K21: =SUM(G21:J21) -> 0 | L21: =$M$21*L20 -> 0 | M21: =IF(B20=$A$55,$F$55,IF(B20=$A$56,$F$56,IF(B20=$A$57,$F$57,IF(B20=$A$58,$F$58,IF(B20=$A$59,$F$59,IF(B20=$A$60,$F$60,IF(B20=$A$61,$F$61,IF(B20=$A$62,$F$62,IF(B20=$A$63,$F$63,IF(B20=$A$64,$F$64,IF(B20=$A$65,$F$65,IF(B20=$A$66,$F$66)))))))))))) -> FALSE
D22: =IF($B20=$A$55,$G$55,IF($B20=$A$56,$G$56,IF($B20=$A$57,$G$57,IF($B20=$A$58,$G$58,IF($B20=$A$59,$G$59,IF($B20=$A$60,$G$60,IF($B20=$A$61,$G$61,IF($B20=$A$62,$G$62,IF($B20=$A$63,$G$63,IF($B20=$A$64,$G$64,IF($B20=$A$65,$G$65,IF($B20=$A$66,0)))))))))))) -> FALSE | E22: =(C22+(C22*D22)) -> 0 | F22: Salary & Benefit Rate | G22: =$E$22*G20 -> 0 | H22: =$E$22*H20 -> 0 | I22: =$E$22*I20 -> 0 | J22: =$E$22*J20 -> 0 | K22: =SUM(G22:J22) -> 0 | L22: =E22*L20 -> 0 | M22: =SUM(K22:L22) -> 0
F23: Per Hour Rate | G23: =IFERROR(G22/G21,0) -> 0 | H23: =IFERROR(H22/H21,0) -> 0 | I23: =IFERROR(I22/I21,0) -> 0 | J23: =IFERROR(J22/J21,0) -> 0 | K23: =IFERROR(K22/K21,0) -> 0
F25: % of time/service | G25: 0 | H25: 0 | I25: 0 | J25: 0 | K25: =SUM(G25:J25) -> 0 | L25: =M25-K25 -> 1 | M25: 1
F26: Budgeted Hours/Service | G26: =$M$26*G25 -> 0 | H26: =$M$26*H25 -> 0 | I26: =$M$26*I25 -> 0 | J26: =$M$26*J25 -> 0 | K26: =SUM(G26:J26) -> 0 | L26: =$M$26*L25 -> 0 | M26: =IF(B25=$A$55,$F$55,IF(B25=$A$56,$F$56,IF(B25=$A$57,$F$57,IF(B25=$A$58,$F$58,IF(B25=$A$59,$F$59,IF(B25=$A$60,$F$60,IF(B25=$A$61,$F$61,IF(B25=$A$62,$F$62,IF(B25=$A$63,$F$63,IF(B25=$A$64,$F$64,IF(B25=$A$65,$F$65,IF(B25=$A$66,$F$66)))))))))))) -> FALSE
D27: =IF($B25=$A$55,$G$55,IF($B25=$A$56,$G$56,IF($B25=$A$57,$G$57,IF($B25=$A$58,$G$58,IF($B25=$A$59,$G$59,IF($B25=$A$60,$G$60,IF($B25=$A$61,$G$61,IF($B25=$A$62,$G$62,IF($B25=$A$63,$G$63,IF($B25=$A$64,$G$64,IF($B25=$A$65,$G$65,IF($B25=$A$66,0)))))))))))) -> FALSE | E27: =(C27+(C27*D27)) -> 0 | F27: Salary & Benefit Rate | G27: =$E$27*G25 -> 0 | H27: =$E$27*H25 -> 0 | I27: =$E$27*I25 -> 0 | J27: =$E$27*J25 -> 0 | K27: =SUM(G27:J27) -> 0 | L27: =E27*L25 -> 0 | M27: =SUM(K27:L27) -> 0
F28: Per Hour Rate | G28: =IFERROR(G27/G26,0) -> 0 | H28: =IFERROR(H27/H26,0) -> 0 | I28: =IFERROR(I27/I26,0) -> 0 | J28: =IFERROR(J27/J26,0) -> 0 | K28: =IFERROR(K27/K26,0) -> 0
F30: % of time/service | G30: 0 | H30: 0 | I30: 0 | J30: 0 | K30: =SUM(G30:J30) -> 0 | L30: =M30-K30 -> 1 | M30: 1
F31: Budgeted Hours/Service | G31: =$M$31*G30 -> 0 | H31: =$M$31*H30 -> 0 | I31: =$M$31*I30 -> 0 | J31: =$M$31*J30 -> 0 | K31: =SUM(G31:J31) -> 0 | L31: =$M$31*L30 -> 0 | M31: =IF(B30=$A$55,$F$55,IF(B30=$A$56,$F$56,IF(B30=$A$57,$F$57,IF(B30=$A$58,$F$58,IF(B30=$A$59,$F$59,IF(B30=$A$60,$F$60,IF(B30=$A$61,$F$61,IF(B30=$A$62,$F$62,IF(B30=$A$63,$F$63,IF(B30=$A$64,$F$64,IF(B30=$A$65,$F$65,IF(B30=$A$66,$F$66)))))))))))) -> FALSE
D32: =IF($B30=$A$55,$G$55,IF($B30=$A$56,$G$56,IF($B30=$A$57,$G$57,IF($B30=$A$58,$G$58,IF($B30=$A$59,$G$59,IF($B30=$A$60,$G$60,IF($B30=$A$61,$G$61,IF($B30=$A$62,$G$62,IF($B30=$A$63,$G$63,IF($B30=$A$64,$G$64,IF($B30=$A$65,$G$65,IF($B30=$A$66,0)))))))))))) -> FALSE | E32: =(C32+(C32*D32)) -> 0 | F32: Salary & Benefit Rate | G32: =$E$32*G30 -> 0 | H32: =$E$32*H30 -> 0 | I32: =$E$32*I30 -> 0 | J32: =$E$32*J30 -> 0 | K32: =SUM(G32:J32) -> 0 | L32: =E32*L30 -> 0 | M32: =SUM(K32:L32) -> 0
F33: Per Hour Rate | G33: =IFERROR(G32/G31,0) -> 0 | H33: =IFERROR(H32/H31,0) -> 0 | I33: =IFERROR(I32/I31,0) -> 0 | J33: =IFERROR(J32/J31,0) -> 0 | K33: =IFERROR(K32/K31,0) -> 0
F35: % of time/service | G35: 0 | H35: 0 | I35: 0 | J35: 0 | K35: =SUM(G35:J35) -> 0 | L35: =M35-K35 -> 1 | M35: 1
F36: Budgeted Hours/Service | G36: =$M$36*G35 -> 0 | H36: =$M$36*H35 -> 0 | I36: =$M$36*I35 -> 0 | J36: =$M$36*J35 -> 0 | K36: =SUM(G36:J36) -> 0 | L36: =$M$36*L35 -> 0 | M36: =IF(B35=$A$55,$F$55,IF(B35=$A$56,$F$56,IF(B35=$A$57,$F$57,IF(B35=$A$58,$F$58,IF(B35=$A$59,$F$59,IF(B35=$A$60,$F$60,IF(B35=$A$61,$F$61,IF(B35=$A$62,$F$62,IF(B35=$A$63,$F$63,IF(B35=$A$64,$F$64,IF(B35=$A$65,$F$65,IF(B35=$A$66,$F$66)))))))))))) -> FALSE
D37: =IF($B35=$A$55,$G$55,IF($B35=$A$56,$G$56,IF($B35=$A$57,$G$57,IF($B35=$A$58,$G$58,IF($B35=$A$59,$G$59,IF($B35=$A$60,$G$60,IF($B35=$A$61,$G$61,IF($B35=$A$62,$G$62,IF($B35=$A$63,$G$63,IF($B35=$A$64,$G$64,IF($B35=$A$65,$G$65,IF($B35=$A$66,0)))))))))))) -> FALSE | E37: =(C37+(C37*D37)) -> 0 | F37: Salary & Benefit Rate | G37: =$E$37*G35 -> 0 | H37: =$E$37*H35 -> 0 | I37: =$E$37*I35 -> 0 | J37: =$E$37*J35 -> 0 | K37: =SUM(G37:J37) -> 0 | L37: =E37*L35 -> 0 | M37: =SUM(K37:L37) -> 0
F38: Per Hour Rate | G38: =IFERROR(G37/G36,0) -> 0 | H38: =IFERROR(H37/H36,0) -> 0 | I38: =IFERROR(I37/I36,0) -> 0 | J38: =IFERROR(J37/J36,0) -> 0 | K38: =IFERROR(K37/K36,0) -> 0
F40: % of time/service | G40: 0 | H40: 0 | I40: 0 | J40: 0 | K40: =SUM(G40:J40) -> 0 | L40: =M40-K40 -> 1 | M40: 1
F41: Budgeted Hours/Service | G41: =$M$41*G40 -> 0 | H41: =$M$41*H40 -> 0 | I41: =$M$41*I40 -> 0 | J41: =$M$41*J40 -> 0 | K41: =SUM(G41:J41) -> 0 | L41: =$M$41*L40 -> 0 | M41: =IF(B40=$A$55,$F$55,IF(B40=$A$56,$F$56,IF(B40=$A$57,$F$57,IF(B40=$A$58,$F$58,IF(B40=$A$59,$F$59,IF(B40=$A$60,$F$60,IF(B40=$A$61,$F$61,IF(B40=$A$62,$F$62,IF(B40=$A$63,$F$63,IF(B40=$A$64,$F$64,IF(B40=$A$65,$F$65,IF(B40=$A$66,$F$66)))))))))))) -> FALSE
D42: =IF($B40=$A$55,$G$55,IF($B40=$A$56,$G$56,IF($B40=$A$57,$G$57,IF($B40=$A$58,$G$58,IF($B40=$A$59,$G$59,IF($B40=$A$60,$G$60,IF($B40=$A$61,$G$61,IF($B40=$A$62,$G$62,IF($B40=$A$63,$G$63,IF($B40=$A$64,$G$64,IF($B40=$A$65,$G$65,IF($B40=$A$66,0)))))))))))) -> FALSE | E42: =(C42+(C42*D42)) -> 0 | F42: Salary & Benefit Rate | G42: =$E$42*G40 -> 0 | H42: =$E$42*H40 -> 0 | I42: =$E$42*I40 -> 0 | J42: =$E$42*J40 -> 0 | K42: =SUM(G42:J42) -> 0 | L42: =E42*L40 -> 0 | M42: =SUM(K42:L42) -> 0
F43: Per Hour Rate | G43: =IFERROR(G42/G41,0) -> 0 | H43: =IFERROR(H42/H41,0) -> 0 | I43: =IFERROR(I42/I41,0) -> 0 | J43: =IFERROR(J42/J41,0) -> 0 | K43: =IFERROR(K42/K41,0) -> 0
F45: % of time/service | G45: 0 | H45: 0 | I45: 0 | J45: 0 | K45: =SUM(G45:J45) -> 0 | L45: =M45-K45 -> 1 | M45: 1
F46: Budgeted Hours/Service | G46: =$M$46*G45 -> 0 | H46: =$M$46*H45 -> 0 | I46: =$M$46*I45 -> 0 | J46: =$M$46*J45 -> 0 | K46: =SUM(G46:J46) -> 0 | L46: =$M$46*L45 -> 0 | M46: =IF(B45=$A$55,$F$55,IF(B45=$A$56,$F$56,IF(B45=$A$57,$F$57,IF(B45=$A$58,$F$58,IF(B45=$A$59,$F$59,IF(B45=$A$60,$F$60,IF(B45=$A$61,$F$61,IF(B45=$A$62,$F$62,IF(B45=$A$63,$F$63,IF(B45=$A$64,$F$64,IF(B45=$A$65,$F$65,IF(B45=$A$66,$F$66)))))))))))) -> FALSE
D47: =IF($B45=$A$55,$G$55,IF($B45=$A$56,$G$56,IF($B45=$A$57,$G$57,IF($B45=$A$58,$G$58,IF($B45=$A$59,$G$59,IF($B45=$A$60,$G$60,IF($B45=$A$61,$G$61,IF($B45=$A$62,$G$62,IF($B45=$A$63,$G$63,IF($B45=$A$64,$G$64,IF($B45=$A$65,$G$65,IF($B45=$A$66,0)))))))))))) -> FALSE | E47: =(C47+(C47*D47)) -> 0 | F47: Salary & Benefit Rate | G47: =$E$47*G45 -> 0 | H47: =$E$47*H45 -> 0 | I47: =$E$47*I45 -> 0 | J47: =$E$47*J45 -> 0 | K47: =SUM(G47:J47) -> 0 | L47: =E47*L45 -> 0 | M47: =SUM(K47:L47) -> 0
F48: Per Hour Rate | G48: =IFERROR(G47/G46,0) -> 0 | H48: =IFERROR(H47/H46,0) -> 0 | I48: =IFERROR(I47/I46,0) -> 0 | J48: =IFERROR(J47/J46,0) -> 0 | K48: =IFERROR(K47/K46,0) -> 0
F50: Total Budgeted Hours/Service | G50: =G6+G11+G16+G21+G26+G31+G36+G41+G46 -> 153.4 | H50: =H6+H11+H16+H21+H26+H31+H36+H41+H46 -> 223.2 | I50: =I6+I11+I16+I21+I26+I31+I36+I41+I46 -> 293 | J50: =J6+J11+J16+J21+J26+J31+J36+J41+J46 -> 1031.6 | K50: =K6+K11+K16+K21+K26+K31+K36+K41+K46 -> 1701.2
...

Sheet Pooled Average Rate
A1: Example of Pooled Average Labor Model: Calculates an average labor rate & is applicable when multiple people with varying labor rates provide the same service but it makes no difference which employee provides the service.
A3: *All items in the yellow colored cells will need to be populated. (Employee Name, Pay Base, Salary, Benefit Rate, and % of time/service.)
A4: Employee Name | B4: Pay Base (Select from Dropdown) *Click on the cell, in the upper right hand corner the dropdown arrow will appear. | C4: Annual Salary | D4: Benefit Rate % | E4: Total Salary & Benefit | G4: Time committed to FFS | H4: Non FFS Work | I4: Total
A5: Jane | B5: B Base Faculty (9 month appointment) | F5: % of time/service | G5: 0.5 | H5: =I5-G5 -> 0.5 | I5: 1
F6: Budgeted Hours/Service | G6: =$I$6*G5 -> 698 | H6: =$I$6*H5 -> 698 | I6: =IF(B5=$A$55,$F$55,IF(B5=$A$56,$F$56,IF(B5=$A$57,$F$57,IF(B5=$A$58,$F$58,IF(B5=$A$59,$F$59,IF(B5=$A$60,$F$60,IF(B5=$A$61,$F$61,IF(B5=$A$62,$F$62,IF(B5=$A$63,$F$63,IF(B5=$A$64,$F$64,IF(B5=$A$65,$F$65,IF(B5=$A$66,$G$66)))))))))))) -> 1396
C7: 125000 | D7: =IF($B5=$A$55,$G$55,IF($B5=$A$56,$G$56,IF($B5=$A$57,$G$57,IF($B5=$A$58,$G$58,IF($B5=$A$59,$G$59,IF($B5=$A$60,$G$60,IF($B5=$A$61,$G$61,IF($B5=$A$62,$G$62,IF($B5=$A$63,$G$63,IF($B5=$A$64,$G$64,IF($B5=$A$65,$G$65,IF($B5=$A$66,0)))))))))))) -> 0.263 | E7: =(C7+(C7*D7)) -> 157875 | F7: Salary & Benefit Rate | G7: =$E$7*G5 -> 78937.5 | H7: =E7*H5 -> 78937.5 | I7: =SUM(G7:H7) -> 157875
F8: Per Hour Rate | G8: =IFERROR(G7/G6,0) -> 113.09097
A10: Tom | B10: P Base (Full-time P&S) | F10: % of time/service | G10: 0.25 | H10: =I10-G10 -> 0.75 | I10: 1
F11: Budgeted Hours/Service | G11: =$I$11*G10 -> 418 | H11: =$I$11*H10 -> 1254 | I11: =IF(B10=$A$55,$F$55,IF(B10=$A$56,$F$56,IF(B10=$A$57,$F$57,IF(B10=$A$58,$F$58,IF(B10=$A$59,$F$59,IF(B10=$A$60,$F$60,IF(B10=$A$61,$F$61,IF(B10=$A$62,$F$62,IF(B10=$A$63,$F$63,IF(B10=$A$64,$F$64,IF(B10=$A$65,$F$65,IF(B10=$A$66,$G$66)))))))))))) -> 1672
C12: 75000 | D12: =IF($B10=$A$55,$G$55,IF($B10=$A$56,$G$56,IF($B10=$A$57,$G$57,IF($B10=$A$58,$G$58,IF($B10=$A$59,$G$59,IF($B10=$A$60,$G$60,IF($B10=$A$61,$G$61,IF($B10=$A$62,$G$62,IF($B10=$A$63,$G$63,IF($B10=$A$64,$G$64,IF($B10=$A$65,$G$65,IF($B10=$A$66,0)))))))))))) -> 0.351 | E12: =(C12+(C12*D12)) -> 101325 | F12: Salary & Benefit Rate | G12: =$E$12*G10 -> 25331.25 | H12: =$E$11*H10 -> 0 | I12: =SUM(G12:H12) -> 25331.25
F13: Per Hour Rate | G13: =IFERROR(G12/G11,0) -> 60.601077
F15: % of time/service | G15: 0 | H15: =I15-G15 -> 1 | I15: 1
F16: Budgeted Hours/Service | G16: =$I$11*G15 -> 0 | H16: =I16*H15 -> 0 | I16: =IF(B15=$A$55,$F$55,IF(B15=$A$56,$F$56,IF(B15=$A$57,$F$57,IF(B15=$A$58,$F$58,IF(B15=$A$59,$F$59,IF(B15=$A$60,$F$60,IF(B15=$A$61,$F$61,IF(B15=$A$62,$F$62,IF(B15=$A$63,$F$63,IF(B15=$A$64,$F$64,IF(B15=$A$65,$F$65,IF(B15=$A$66,$G$66)))))))))))) -> FALSE
D17: =IF($B15=$A$55,$G$55,IF($B15=$A$56,$G$56,IF($B15=$A$57,$G$57,IF($B15=$A$58,$G$58,IF($B15=$A$59,$G$59,IF($B15=$A$60,$G$60,IF($B15=$A$61,$G$61,IF($B15=$A$62,$G$62,IF($B15=$A$63,$G$63,IF($B15=$A$64,$G$64,IF($B15=$A$65,$G$65,IF($B15=$A$66,0)))))))))))) -> FALSE | E17: =(C17+(C17*D17)) -> 0 | F17: Salary & Benefit Rate | G17: =$E$17*G15 -> 0 | H17: =E17*H15 -> 0 | I17: =SUM(G17:H17) -> 0
F18: Per Hour Rate | G18: =IFERROR(G17/G16,0) -> 0
F20: % of time/service | G20: 0 | H20: =I20-G20 -> 1 | I20: 1
F21: Budgeted Hours/Service | G21: =$I$21*G20 -> 0 | H21: =$I$21*H20 -> 0 | I21: =IF(B20=$A$55,$F$55,IF(B20=$A$56,$F$56,IF(B20=$A$57,$F$57,IF(B20=$A$58,$F$58,IF(B20=$A$59,$F$59,IF(B20=$A$60,$F$60,IF(B20=$A$61,$F$61,IF(B20=$A$62,$F$62,IF(B20=$A$63,$F$63,IF(B20=$A$64,$F$64,IF(B20=$A$65,$F$65,IF(B20=$A$66,$G$66)))))))))))) -> FALSE
D22: =IF($B20=$A$55,$G$55,IF($B20=$A$56,$G$56,IF($B20=$A$57,$G$57,IF($B20=$A$58,$G$58,IF($B20=$A$59,$G$59,IF($B20=$A$60,$G$60,IF($B20=$A$61,$G$61,IF($B20=$A$62,$G$62,IF($B20=$A$63,$G$63,IF($B20=$A$64,$G$64,IF($B20=$A$65,$G$65,IF($B20=$A$66,0)))))))))))) -> FALSE | E22: =(C22+(C22*D22)) -> 0 | F22: Salary & Benefit Rate | G22: =$E$22*G20 -> 0 | H22: =E22*H20 -> 0 | I22: =SUM(G22:H22) -> 0
F23: Per Hour Rate | G23: =IFERROR(G22/G21,0) -> 0
F25: % of time/service | G25: 0 | H25: =I25-G25 -> 1 | I25: 1
F26: Budgeted Hours/Service | G26: =$I$26*G25 -> 0 | H26: =$I$26*H25 -> 0 | I26: =IF(B25=$A$55,$F$55,IF(B25=$A$56,$F$56,IF(B25=$A$57,$F$57,IF(B25=$A$58,$F$58,IF(B25=$A$59,$F$59,IF(B25=$A$60,$F$60,IF(B25=$A$61,$F$61,IF(B25=$A$62,$F$62,IF(B25=$A$63,$F$63,IF(B25=$A$64,$F$64,IF(B25=$A$65,$F$65,IF(B25=$A$66,$G$66)))))))))))) -> FALSE
D27: =IF($B25=$A$55,$G$55,IF($B25=$A$56,$G$56,IF($B25=$A$57,$G$57,IF($B25=$A$58,$G$58,IF($B25=$A$59,$G$59,IF($B25=$A$60,$G$60,IF($B25=$A$61,$G$61,IF($B25=$A$62,$G$62,IF($B25=$A$63,$G$63,IF($B25=$A$64,$G$64,IF($B25=$A$65,$G$65,IF($B25=$A$66,0)))))))))))) -> FALSE | E27: =(C27+(C27*D27)) -> 0 | F27: Salary & Benefit Rate | G27: =$E$27*G25 -> 0 | H27: =E27*H25 -> 0 | I27: =SUM(G27:H27) -> 0
F28: Per Hour Rate | G28: =IFERROR(G27/G26,0) -> 0
F30: % of time/service | G30: 0 | H30: =I30-G30 -> 1 | I30: 1
F31: Budgeted Hours/Service | G31: =$I$31*G30 -> 0 | H31: =$I$31*H30 -> 0 | I31: =IF(B30=$A$55,$F$55,IF(B30=$A$56,$F$56,IF(B30=$A$57,$F$57,IF(B30=$A$58,$F$58,IF(B30=$A$59,$F$59,IF(B30=$A$60,$F$60,IF(B30=$A$61,$F$61,IF(B30=$A$62,$F$62,IF(B30=$A$63,$F$63,IF(B30=$A$64,$F$64,IF(B30=$A$65,$F$65,IF(B30=$A$66,$G$66)))))))))))) -> FALSE
D32: =IF($B30=$A$55,$G$55,IF($B30=$A$56,$G$56,IF($B30=$A$57,$G$57,IF($B30=$A$58,$G$58,IF($B30=$A$59,$G$59,IF($B30=$A$60,$G$60,IF($B30=$A$61,$G$61,IF($B30=$A$62,$G$62,IF($B30=$A$63,$G$63,IF($B30=$A$64,$G$64,IF($B30=$A$65,$G$65,IF($B30=$A$66,0)))))))))))) -> FALSE | E32: =(C32+(C32*D32)) -> 0 | F32: Salary & Benefit Rate | G32: =$E$32*G30 -> 0 | H32: =$E$32*H30 -> 0 | I32: =SUM(G32:H32) -> 0
F33: Per Hour Rate | G33: =IFERROR(G32/G31,0) -> 0
F35: % of time/service | G35: 0 | H35: =I35-G35 -> 1 | I35: 1
F36: Budgeted Hours/Service | G36: =$I$36*G35 -> 0 | H36: =I36*H35 -> 0 | I36: =IF(B35=$A$55,$F$55,IF(B35=$A$56,$F$56,IF(B35=$A$57,$F$57,IF(B35=$A$58,$F$58,IF(B35=$A$59,$F$59,IF(B35=$A$60,$F$60,IF(B35=$A$61,$F$61,IF(B35=$A$62,$F$62,IF(B35=$A$63,$F$63,IF(B35=$A$64,$F$64,IF(B35=$A$65,$F$65,IF(B35=$A$66,$G$66)))))))))))) -> FALSE
D37: =IF($B35=$A$55,$G$55,IF($B35=$A$56,$G$56,IF($B35=$A$57,$G$57,IF($B35=$A$58,$G$58,IF($B35=$A$59,$G$59,IF($B35=$A$60,$G$60,IF($B35=$A$61,$G$61,IF($B35=$A$62,$G$62,IF($B35=$A$63,$G$63,IF($B35=$A$64,$G$64,IF($B35=$A$65,$G$65,IF($B35=$A$66,0)))))))))))) -> FALSE | E37: =(C37+(C37*D37)) -> 0 | F37: Salary & Benefit Rate | G37: =$E$37*G35 -> 0 | H37: =E37*H35 -> 0 | I37: =SUM(G37:H37) -> 0
F38: Per Hour Rate | G38: =IFERROR(G37/G36,0) -> 0
F40: % of time/service | G40: 0 | H40: =I40-G40 -> 1 | I40: 1
F41: Budgeted Hours/Service | G41: =$I$41*G40 -> 0 | H41: =$I$41*H40 -> 0 | I41: =IF(B40=$A$55,$F$55,IF(B40=$A$56,$F$56,IF(B40=$A$57,$F$57,IF(B40=$A$58,$F$58,IF(B40=$A$59,$F$59,IF(B40=$A$60,$F$60,IF(B40=$A$61,$F$61,IF(B40=$A$62,$F$62,IF(B40=$A$63,$F$63,IF(B40=$A$64,$F$64,IF(B40=$A$65,$F$65,IF(B40=$A$66,$G$66)))))))))))) -> FALSE
D42: =IF($B40=$A$55,$G$55,IF($B40=$A$56,$G$56,IF($B40=$A$57,$G$57,IF($B40=$A$58,$G$58,IF($B40=$A$59,$G$59,IF($B40=$A$60,$G$60,IF($B40=$A$61,$G$61,IF($B40=$A$62,$G$62,IF($B40=$A$63,$G$63,IF($B40=$A$64,$G$64,IF($B40=$A$65,$G$65,IF($B40=$A$66,0)))))))))))) -> FALSE | E42: =(C42+(C42*D42)) -> 0 | F42: Salary & Benefit Rate | G42: =$E$42*G40 -> 0 | H42: =E42*H40 -> 0 | I42: =SUM(G42:H42) -> 0
F43: Per Hour Rate | G43: =IFERROR(G42/G41,0) -> 0
F45: % of time/service | G45: 0 | H45: =I45-G45 -> 1 | I45: 1
F46: Budgeted Hours/Service | G46: =$I$46*G45 -> 0 | H46: =$I$46*H45 -> 0 | I46: =IF(B45=$A$55,$F$55,IF(B45=$A$56,$F$56,IF(B45=$A$57,$F$57,IF(B45=$A$58,$F$58,IF(B45=$A$59,$F$59,IF(B45=$A$60,$F$60,IF(B45=$A$61,$F$61,IF(B45=$A$62,$F$62,IF(B45=$A$63,$F$63,IF(B45=$A$64,$F$64,IF(B45=$A$65,$F$65,IF(B45=$A$66,$G$66)))))))))))) -> FALSE
D47: =IF($B45=$A$55,$G$55,IF($B45=$A$56,$G$56,IF($B45=$A$57,$G$57,IF($B45=$A$58,$G$58,IF($B45=$A$59,$G$59,IF($B45=$A$60,$G$60,IF($B45=$A$61,$G$61,IF($B45=$A$62,$G$62,IF($B45=$A$63,$G$63,IF($B45=$A$64,$G$64,IF($B45=$A$65,$G$65,IF($B45=$A$66,0)))))))))))) -> FALSE | E47: =(C47+(C47*D47)) -> 0 | F47: Salary & Benefit Rate | G47: =$E$47*G45 -> 0 | H47: =E47*H45 -> 0 | I47: =SUM(G47:H47) -> 0
F48: Per Hour Rate | G48: =IFERROR(G47/G46,0) -> 0
F50: Total Budgeted Hours/Service | G50: =G6+G11+G16+G21+G26+G31+G36+G41+G46 -> 1116
...
